Package: epivizrStandalone Version: 1.34.0 Command: /home/biocbuild/bbs-3.20-bioc/R/bin/R CMD build --keep-empty-dirs --no-resave-data --md5 epivizrStandalone StartedAt: 2025-01-30 17:12:06 -0500 (Thu, 30 Jan 2025) EndedAt: 2025-01-30 17:12:49 -0500 (Thu, 30 Jan 2025) EllapsedTime: 43.0 seconds RetCode: 0 Status: OK PackageFile: epivizrStandalone_1.34.0.tar.gz PackageFileSize: 220.5 KiB