Package: epivizrStandalone Version: 1.34.0 Command: /home/biocbuild/R/R/bin/R CMD build --keep-empty-dirs --no-resave-data epivizrStandalone StartedAt: 2025-02-03 23:29:50 -0000 (Mon, 03 Feb 2025) EndedAt: 2025-02-03 23:30:46 -0000 (Mon, 03 Feb 2025) EllapsedTime: 56.0 seconds RetCode: 0 Status: OK PackageFile: epivizrStandalone_1.34.0.tar.gz PackageFileSize: 289.3 KiB