Package: erccdashboard Version: 1.40.0 Command: /Library/Frameworks/R.framework/Resources/bin/R CMD build --keep-empty-dirs --no-resave-data erccdashboard StartedAt: 2025-02-03 23:23:12 -0500 (Mon, 03 Feb 2025) EndedAt: 2025-02-03 23:24:06 -0500 (Mon, 03 Feb 2025) EllapsedTime: 54.7 seconds RetCode: 0 Status: OK PackageFile: erccdashboard_1.40.0.tar.gz PackageFileSize: 2.134 MiB