Package: erccdashboard Version: 1.40.0 Command: chmod a+r erccdashboard -R && F:\biocbuild\bbs-3.20-bioc\R\bin\R.exe CMD build --keep-empty-dirs --no-resave-data erccdashboard StartedAt: 2025-01-30 18:44:50 -0500 (Thu, 30 Jan 2025) EndedAt: 2025-01-30 18:55:04 -0500 (Thu, 30 Jan 2025) EllapsedTime: 613.8 seconds RetCode: 0 Status: OK PackageFile: erccdashboard_1.40.0.tar.gz PackageFileSize: 1.675 MiB