Package: erccdashboard Version: 1.40.0 Command: /home/biocbuild/R/R/bin/R CMD build --keep-empty-dirs --no-resave-data erccdashboard StartedAt: 2025-02-03 23:29:54 -0000 (Mon, 03 Feb 2025) EndedAt: 2025-02-03 23:30:56 -0000 (Mon, 03 Feb 2025) EllapsedTime: 62.0 seconds RetCode: 0 Status: OK PackageFile: erccdashboard_1.40.0.tar.gz PackageFileSize: 1.726 MiB