Package: erccdashboard Version: 1.40.0 Command: /home/biocbuild/R/R/bin/R CMD INSTALL erccdashboard StartedAt: 2025-02-03 20:34:08 -0000 (Mon, 03 Feb 2025) EndedAt: 2025-02-03 20:34:26 -0000 (Mon, 03 Feb 2025) EllapsedTime: 18.4 seconds RetCode: 0 Status: OK