Package: erma Version: 1.22.0 Command: /Library/Frameworks/R.framework/Resources/bin/R CMD build --keep-empty-dirs --no-resave-data erma StartedAt: 2025-02-10 23:33:57 -0500 (Mon, 10 Feb 2025) EndedAt: 2025-02-10 23:35:55 -0500 (Mon, 10 Feb 2025) EllapsedTime: 118.7 seconds RetCode: 0 Status: OK PackageFile: erma_1.22.0.tar.gz PackageFileSize: 198.1 MiB