Package: erma Version: 1.22.0 Command: /Library/Frameworks/R.framework/Resources/bin/R CMD INSTALL erma StartedAt: 2025-02-03 16:34:00 -0500 (Mon, 03 Feb 2025) EndedAt: 2025-02-03 16:34:56 -0500 (Mon, 03 Feb 2025) EllapsedTime: 55.9 seconds RetCode: 0 Status: OK