Package: erma Version: 1.22.0 Command: /home/biocbuild/bbs-3.20-bioc/R/bin/R CMD INSTALL erma StartedAt: 2025-02-10 15:38:18 -0500 (Mon, 10 Feb 2025) EndedAt: 2025-02-10 15:39:04 -0500 (Mon, 10 Feb 2025) EllapsedTime: 46.0 seconds RetCode: 0 Status: OK