Package: erma Version: 1.22.0 Command: chmod a+r erma -R && F:\biocbuild\bbs-3.20-bioc\R\bin\R.exe CMD build --keep-empty-dirs --no-resave-data erma StartedAt: 2025-02-03 19:00:21 -0500 (Mon, 03 Feb 2025) EndedAt: 2025-02-03 19:02:05 -0500 (Mon, 03 Feb 2025) EllapsedTime: 103.8 seconds RetCode: 0 Status: OK PackageFile: erma_1.22.0.tar.gz PackageFileSize: 198 MiB