Package: erma Version: 1.22.0 Command: /home/biocbuild/R/R/bin/R CMD build --keep-empty-dirs --no-resave-data erma StartedAt: 2025-02-03 23:30:39 -0000 (Mon, 03 Feb 2025) EndedAt: 2025-02-03 23:32:33 -0000 (Mon, 03 Feb 2025) EllapsedTime: 114.0 seconds RetCode: 0 Status: OK PackageFile: erma_1.22.0.tar.gz PackageFileSize: 197.8 MiB