Package: esATAC Version: 1.28.0 Command: /Library/Frameworks/R.framework/Resources/bin/R CMD build --keep-empty-dirs --no-resave-data esATAC StartedAt: 2025-02-03 23:24:06 -0500 (Mon, 03 Feb 2025) EndedAt: 2025-02-03 23:25:55 -0500 (Mon, 03 Feb 2025) EllapsedTime: 108.7 seconds RetCode: 0 Status: OK PackageFile: esATAC_1.28.0.tar.gz PackageFileSize: 9.863 MiB