Package: esATAC Version: 1.28.0 Command: rm -rf esATAC.buildbin-libdir && mkdir esATAC.buildbin-libdir && /Users/biocbuild/BBS/utils/build-universal.sh esATAC_1.28.0.tar.gz /Library/Frameworks/R.framework/Resources/bin/R esATAC.buildbin-libdir StartedAt: 2025-01-31 12:46:20 -0500 (Fri, 31 Jan 2025) EndedAt: 2025-01-31 12:49:47 -0500 (Fri, 31 Jan 2025) EllapsedTime: 207.0 seconds RetCode: 0 Status: OK PackageFile: esATAC_1.28.0.tgz PackageFileSize: 8.171 MiB