Package: esATAC Version: 1.28.0 Command: /Library/Frameworks/R.framework/Resources/bin/R CMD build --keep-empty-dirs --no-resave-data esATAC StartedAt: 2025-01-30 19:01:34 -0500 (Thu, 30 Jan 2025) EndedAt: 2025-01-30 19:05:24 -0500 (Thu, 30 Jan 2025) EllapsedTime: 229.2 seconds RetCode: 0 Status: OK PackageFile: esATAC_1.28.0.tar.gz PackageFileSize: 9.863 MiB