Package: esATAC Version: 1.28.0 Command: /Library/Frameworks/R.framework/Resources/bin/R CMD INSTALL esATAC StartedAt: 2025-01-30 16:17:04 -0500 (Thu, 30 Jan 2025) EndedAt: 2025-01-30 16:20:29 -0500 (Thu, 30 Jan 2025) EllapsedTime: 205.5 seconds RetCode: 0 Status: OK