Package: esATAC Version: 1.28.0 Command: rm -rf esATAC.buildbin-libdir && mkdir esATAC.buildbin-libdir && F:\biocbuild\bbs-3.20-bioc\R\bin\R.exe CMD INSTALL --build --library=esATAC.buildbin-libdir esATAC_1.28.0.tar.gz StartedAt: 2025-01-31 08:37:54 -0500 (Fri, 31 Jan 2025) EndedAt: 2025-01-31 08:40:36 -0500 (Fri, 31 Jan 2025) EllapsedTime: 162.3 seconds RetCode: 0 Status: OK PackageFile: esATAC_1.28.0.zip PackageFileSize: 8.525 MiB