Package: esATAC Version: 1.28.0 Command: chmod a+r esATAC -R && F:\biocbuild\bbs-3.20-bioc\R\bin\R.exe CMD build --keep-empty-dirs --no-resave-data esATAC StartedAt: 2025-02-03 19:00:24 -0500 (Mon, 03 Feb 2025) EndedAt: 2025-02-03 19:02:24 -0500 (Mon, 03 Feb 2025) EllapsedTime: 119.1 seconds RetCode: 0 Status: OK PackageFile: esATAC_1.28.0.tar.gz PackageFileSize: 9.863 MiB