Package: esATAC Version: 1.28.0 Command: /home/biocbuild/R/R/bin/R CMD build --keep-empty-dirs --no-resave-data esATAC StartedAt: 2025-01-30 23:31:18 -0000 (Thu, 30 Jan 2025) EndedAt: 2025-01-30 23:33:15 -0000 (Thu, 30 Jan 2025) EllapsedTime: 117.0 seconds RetCode: 0 Status: OK PackageFile: esATAC_1.28.0.tar.gz PackageFileSize: 9.864 MiB