Package: escheR Version: 1.6.0 Command: rm -rf escheR.buildbin-libdir && mkdir escheR.buildbin-libdir && /Users/biocbuild/BBS/utils/build-universal.sh escheR_1.6.0.tar.gz /Library/Frameworks/R.framework/Resources/bin/R escheR.buildbin-libdir StartedAt: 2025-02-05 15:48:02 -0500 (Wed, 05 Feb 2025) EndedAt: 2025-02-05 15:48:37 -0500 (Wed, 05 Feb 2025) EllapsedTime: 34.0 seconds RetCode: 0 Status: OK PackageFile: escheR_1.6.0.tgz PackageFileSize: 3.561 MiB