Package: escheR Version: 1.6.0 Command: /Library/Frameworks/R.framework/Resources/bin/R CMD INSTALL escheR StartedAt: 2025-02-03 17:40:40 -0500 (Mon, 03 Feb 2025) EndedAt: 2025-02-03 17:41:10 -0500 (Mon, 03 Feb 2025) EllapsedTime: 30.0 seconds RetCode: 0 Status: OK