Package: escheR Version: 1.6.0 Command: rm -rf escheR.buildbin-libdir && mkdir escheR.buildbin-libdir && /Users/biocbuild/BBS/utils/build-universal.sh escheR_1.6.0.tar.gz /Library/Frameworks/R.framework/Resources/bin/R escheR.buildbin-libdir StartedAt: 2025-01-31 12:46:35 -0500 (Fri, 31 Jan 2025) EndedAt: 2025-01-31 12:47:31 -0500 (Fri, 31 Jan 2025) EllapsedTime: 56.3 seconds RetCode: 0 Status: OK PackageFile: escheR_1.6.0.tgz PackageFileSize: 3.561 MiB