Package: escheR Version: 1.6.0 Command: /Library/Frameworks/R.framework/Resources/bin/R CMD build --keep-empty-dirs --no-resave-data escheR StartedAt: 2025-02-03 18:51:41 -0500 (Mon, 03 Feb 2025) EndedAt: 2025-02-03 18:57:06 -0500 (Mon, 03 Feb 2025) EllapsedTime: 324.9 seconds RetCode: 0 Status: OK PackageFile: escheR_1.6.0.tar.gz PackageFileSize: 3.545 MiB