Package: escheR Version: 1.6.0 Command: /home/biocbuild/bbs-3.20-bioc/R/bin/R CMD check --install=check:escheR.install-out.txt --library=/home/biocbuild/bbs-3.20-bioc/R/site-library --timings escheR_1.6.0.tar.gz StartedAt: 2025-02-03 22:15:03 -0500 (Mon, 03 Feb 2025) EndedAt: 2025-02-03 22:20:43 -0500 (Mon, 03 Feb 2025) EllapsedTime: 340.4 seconds RetCode: 0 Status: OK CheckDir: escheR.Rcheck Warnings: 0