Package: escheR Version: 1.6.0 Command: /home/biocbuild/R/R/bin/R CMD build --keep-empty-dirs --no-resave-data escheR StartedAt: 2025-01-30 23:31:59 -0000 (Thu, 30 Jan 2025) EndedAt: 2025-01-30 23:34:51 -0000 (Thu, 30 Jan 2025) EllapsedTime: 172.1 seconds RetCode: 0 Status: OK PackageFile: escheR_1.6.0.tar.gz PackageFileSize: 1.359 MiB