Package: eudysbiome Version: 1.36.0 Command: /home/biocbuild/bbs-3.20-bioc/R/bin/R CMD INSTALL eudysbiome StartedAt: 2025-02-03 15:34:41 -0500 (Mon, 03 Feb 2025) EndedAt: 2025-02-03 15:34:53 -0500 (Mon, 03 Feb 2025) EllapsedTime: 11.9 seconds RetCode: 0 Status: OK