Package: evaluomeR Version: 1.22.0 Command: /Library/Frameworks/R.framework/Resources/bin/R CMD check --install=check:evaluomeR.install-out.txt --library=/Library/Frameworks/R.framework/Resources/library --no-vignettes --timings evaluomeR_1.22.0.tar.gz StartedAt: 2025-02-11 19:10:24 -0500 (Tue, 11 Feb 2025) EndedAt: 2025-02-11 19:15:49 -0500 (Tue, 11 Feb 2025) EllapsedTime: 325.2 seconds RetCode: 0 Status: WARNINGS CheckDir: evaluomeR.Rcheck Warnings: 3