Package: evaluomeR Version: 1.22.0 Command: /home/biocbuild/bbs-3.20-bioc/R/bin/R CMD check --install=check:evaluomeR.install-out.txt --library=/home/biocbuild/bbs-3.20-bioc/R/site-library --timings evaluomeR_1.22.0.tar.gz StartedAt: 2025-02-10 22:07:54 -0500 (Mon, 10 Feb 2025) EndedAt: 2025-02-10 22:12:57 -0500 (Mon, 10 Feb 2025) EllapsedTime: 303.3 seconds RetCode: 0 Status: WARNINGS CheckDir: evaluomeR.Rcheck Warnings: 3