Package: factR Version: 1.8.0 Command: /Library/Frameworks/R.framework/Resources/bin/R CMD check --install=check:factR.install-out.txt --library=/Library/Frameworks/R.framework/Resources/library --no-vignettes --timings factR_1.8.0.tar.gz StartedAt: 2025-02-04 19:38:12 -0500 (Tue, 04 Feb 2025) EndedAt: 2025-02-04 19:40:49 -0500 (Tue, 04 Feb 2025) EllapsedTime: 157.0 seconds RetCode: 0 Status: OK CheckDir: factR.Rcheck Warnings: 0