Package: factR Version: 1.8.0 Command: F:\biocbuild\bbs-3.20-bioc\R\bin\R.exe CMD INSTALL factR StartedAt: 2025-02-03 16:36:16 -0500 (Mon, 03 Feb 2025) EndedAt: 2025-02-03 16:36:36 -0500 (Mon, 03 Feb 2025) EllapsedTime: 19.5 seconds RetCode: 0 Status: OK