Package: factR Version: 1.8.0 Command: /home/biocbuild/R/R/bin/R CMD build --keep-empty-dirs --no-resave-data factR StartedAt: 2025-02-10 23:22:36 -0000 (Mon, 10 Feb 2025) EndedAt: 2025-02-10 23:27:02 -0000 (Mon, 10 Feb 2025) EllapsedTime: 266.1 seconds RetCode: 0 Status: OK PackageFile: factR_1.8.0.tar.gz PackageFileSize: 1.462 MiB