Package: factR Version: 1.8.0 Command: /home/biocbuild/R/R/bin/R CMD INSTALL factR StartedAt: 2025-02-03 20:40:31 -0000 (Mon, 03 Feb 2025) EndedAt: 2025-02-03 20:40:45 -0000 (Mon, 03 Feb 2025) EllapsedTime: 13.5 seconds RetCode: 0 Status: OK