Package: fastseg Version: 1.52.0 Command: /Library/Frameworks/R.framework/Resources/bin/R CMD build --keep-empty-dirs --no-resave-data fastseg StartedAt: 2025-02-03 23:31:53 -0500 (Mon, 03 Feb 2025) EndedAt: 2025-02-03 23:32:41 -0500 (Mon, 03 Feb 2025) EllapsedTime: 48.2 seconds RetCode: 0 Status: OK PackageFile: fastseg_1.52.0.tar.gz PackageFileSize: 729.7 KiB