Package: fastseg Version: 1.52.0 Command: /Library/Frameworks/R.framework/Resources/bin/R CMD check --install=check:fastseg.install-out.txt --library=/Library/Frameworks/R.framework/Resources/library --no-vignettes --timings fastseg_1.52.0.tar.gz StartedAt: 2025-01-31 19:12:25 -0500 (Fri, 31 Jan 2025) EndedAt: 2025-01-31 19:13:57 -0500 (Fri, 31 Jan 2025) EllapsedTime: 91.7 seconds RetCode: 0 Status: OK CheckDir: fastseg.Rcheck Warnings: 0