Package: fastseg Version: 1.52.0 Command: /Library/Frameworks/R.framework/Resources/bin/R CMD INSTALL fastseg StartedAt: 2025-01-30 15:29:39 -0500 (Thu, 30 Jan 2025) EndedAt: 2025-01-30 15:29:58 -0500 (Thu, 30 Jan 2025) EllapsedTime: 18.9 seconds RetCode: 0 Status: OK