Package: fastseg Version: 1.52.0 Command: rm -rf fastseg.buildbin-libdir && mkdir fastseg.buildbin-libdir && /Users/biocbuild/BBS/utils/build-universal.sh fastseg_1.52.0.tar.gz /Library/Frameworks/R.framework/Resources/bin/R fastseg.buildbin-libdir StartedAt: 2025-02-04 12:56:17 -0500 (Tue, 04 Feb 2025) EndedAt: 2025-02-04 12:56:48 -0500 (Tue, 04 Feb 2025) EllapsedTime: 30.8 seconds RetCode: 0 Status: OK PackageFile: fastseg_1.52.0.tgz PackageFileSize: 764.7 KiB