Package: fastseg Version: 1.52.0 Command: /Library/Frameworks/R.framework/Resources/bin/R CMD build --keep-empty-dirs --no-resave-data fastseg StartedAt: 2025-01-30 19:05:42 -0500 (Thu, 30 Jan 2025) EndedAt: 2025-01-30 19:07:12 -0500 (Thu, 30 Jan 2025) EllapsedTime: 89.7 seconds RetCode: 0 Status: OK PackageFile: fastseg_1.52.0.tar.gz PackageFileSize: 729.2 KiB