Package: fastseg Version: 1.52.0 Command: /home/biocbuild/bbs-3.20-bioc/R/bin/R CMD build --keep-empty-dirs --no-resave-data --md5 fastseg StartedAt: 2025-01-30 17:14:59 -0500 (Thu, 30 Jan 2025) EndedAt: 2025-01-30 17:15:48 -0500 (Thu, 30 Jan 2025) EllapsedTime: 49.1 seconds RetCode: 0 Status: OK PackageFile: fastseg_1.52.0.tar.gz PackageFileSize: 719.1 KiB