Package: fastseg Version: 1.52.0 Command: chmod a+r fastseg -R && F:\biocbuild\bbs-3.20-bioc\R\bin\R.exe CMD build --keep-empty-dirs --no-resave-data fastseg StartedAt: 2025-01-30 18:50:40 -0500 (Thu, 30 Jan 2025) EndedAt: 2025-01-30 18:52:39 -0500 (Thu, 30 Jan 2025) EllapsedTime: 118.8 seconds RetCode: 0 Status: OK PackageFile: fastseg_1.52.0.tar.gz PackageFileSize: 475.7 KiB