Package: fastseg Version: 1.52.0 Command: /home/biocbuild/R/R/bin/R CMD INSTALL fastseg StartedAt: 2025-02-03 20:34:42 -0000 (Mon, 03 Feb 2025) EndedAt: 2025-02-03 20:34:58 -0000 (Mon, 03 Feb 2025) EllapsedTime: 16.1 seconds RetCode: 0 Status: OK