Package: fcScan Version: 1.20.0 Command: /Library/Frameworks/R.framework/Resources/bin/R CMD check --install=check:fcScan.install-out.txt --library=/Library/Frameworks/R.framework/Resources/library --no-vignettes --timings fcScan_1.20.0.tar.gz StartedAt: 2025-02-04 19:43:03 -0500 (Tue, 04 Feb 2025) EndedAt: 2025-02-04 19:48:09 -0500 (Tue, 04 Feb 2025) EllapsedTime: 305.8 seconds RetCode: 0 Status: OK CheckDir: fcScan.Rcheck Warnings: 0