Package: fcScan Version: 1.20.0 Command: /Library/Frameworks/R.framework/Resources/bin/R CMD INSTALL fcScan StartedAt: 2025-02-03 16:01:31 -0500 (Mon, 03 Feb 2025) EndedAt: 2025-02-03 16:02:16 -0500 (Mon, 03 Feb 2025) EllapsedTime: 44.9 seconds RetCode: 0 Status: OK