Package: fcScan Version: 1.20.0 Command: rm -rf fcScan.buildbin-libdir && mkdir fcScan.buildbin-libdir && /Users/biocbuild/BBS/utils/build-universal.sh fcScan_1.20.0.tar.gz /Library/Frameworks/R.framework/Resources/bin/R fcScan.buildbin-libdir StartedAt: 2025-02-04 12:56:23 -0500 (Tue, 04 Feb 2025) EndedAt: 2025-02-04 12:57:45 -0500 (Tue, 04 Feb 2025) EllapsedTime: 82.2 seconds RetCode: 0 Status: OK PackageFile: fcScan_1.20.0.tgz PackageFileSize: 271.9 KiB