Package: fcScan Version: 1.20.0 Command: F:\biocbuild\bbs-3.20-bioc\R\bin\R.exe CMD check --no-multiarch --install=check:fcScan.install-out.txt --library=F:\biocbuild\bbs-3.20-bioc\R\library --no-vignettes --timings fcScan_1.20.0.tar.gz StartedAt: 2025-01-28 01:32:59 -0500 (Tue, 28 Jan 2025) EndedAt: 2025-01-28 01:48:46 -0500 (Tue, 28 Jan 2025) EllapsedTime: 947.5 seconds RetCode: 0 Status: OK CheckDir: fcScan.Rcheck Warnings: 0