Package: fcScan Version: 1.20.0 Command: /home/biocbuild/R/R/bin/R CMD build --keep-empty-dirs --no-resave-data fcScan StartedAt: 2025-02-03 23:34:53 -0000 (Mon, 03 Feb 2025) EndedAt: 2025-02-03 23:35:56 -0000 (Mon, 03 Feb 2025) EllapsedTime: 63.0 seconds RetCode: 0 Status: OK PackageFile: fcScan_1.20.0.tar.gz PackageFileSize: 268 KiB