Package: fcScan Version: 1.20.0 Command: /home/biocbuild/R/R/bin/R CMD INSTALL fcScan StartedAt: 2025-02-03 20:43:53 -0000 (Mon, 03 Feb 2025) EndedAt: 2025-02-03 20:44:39 -0000 (Mon, 03 Feb 2025) EllapsedTime: 45.6 seconds RetCode: 0 Status: OK