Package: fenr Version: 1.4.1 Command: rm -rf fenr.buildbin-libdir && mkdir fenr.buildbin-libdir && /Users/biocbuild/BBS/utils/build-universal.sh fenr_1.4.1.tar.gz /Library/Frameworks/R.framework/Resources/bin/R fenr.buildbin-libdir StartedAt: 2025-02-05 15:50:50 -0500 (Wed, 05 Feb 2025) EndedAt: 2025-02-05 15:50:54 -0500 (Wed, 05 Feb 2025) EllapsedTime: 4.5 seconds RetCode: 0 Status: OK PackageFile: fenr_1.4.1.tgz PackageFileSize: 1.746 MiB