Package: fenr Version: 1.4.1 Command: /Library/Frameworks/R.framework/Resources/bin/R CMD check --install=check:fenr.install-out.txt --library=/Library/Frameworks/R.framework/Resources/library --no-vignettes --timings fenr_1.4.1.tar.gz StartedAt: 2025-02-04 19:47:38 -0500 (Tue, 04 Feb 2025) EndedAt: 2025-02-04 19:50:47 -0500 (Tue, 04 Feb 2025) EllapsedTime: 188.2 seconds RetCode: 0 Status: OK CheckDir: fenr.Rcheck Warnings: 0