Package: fenr Version: 1.4.1 Command: /Library/Frameworks/R.framework/Resources/bin/R CMD INSTALL fenr StartedAt: 2025-02-03 16:34:59 -0500 (Mon, 03 Feb 2025) EndedAt: 2025-02-03 16:35:04 -0500 (Mon, 03 Feb 2025) EllapsedTime: 4.9 seconds RetCode: 0 Status: OK