Package: fenr Version: 1.4.1 Command: /Library/Frameworks/R.framework/Resources/bin/R CMD build --keep-empty-dirs --no-resave-data fenr StartedAt: 2025-01-30 19:06:47 -0500 (Thu, 30 Jan 2025) EndedAt: 2025-01-30 19:08:10 -0500 (Thu, 30 Jan 2025) EllapsedTime: 82.9 seconds RetCode: 0 Status: OK PackageFile: fenr_1.4.1.tar.gz PackageFileSize: 1.927 MiB