Package: fenr Version: 1.4.1 Command: /Library/Frameworks/R.framework/Resources/bin/R CMD check --install=check:fenr.install-out.txt --library=/Library/Frameworks/R.framework/Resources/library --no-vignettes --timings fenr_1.4.1.tar.gz StartedAt: 2025-01-31 03:53:38 -0500 (Fri, 31 Jan 2025) EndedAt: 2025-01-31 03:58:56 -0500 (Fri, 31 Jan 2025) EllapsedTime: 317.9 seconds RetCode: 0 Status: OK CheckDir: fenr.Rcheck Warnings: 0